BEGIN:VCALENDAR
VERSION:2.0
PRODID:-//webinar.firespring.org//NONSGML kigkonsult.se iCalcreator 2.30.10
 //
CALSCALE:GREGORIAN
METHOD:PUBLISH
UID:58b8b70b-70c1-4a6e-a4ac-9cbfe4396e3f
X-WR-CALDESC:
X-WR-RELCALID:ced7664c0516e96a1578d2a8c2aeec8f
X-WR-TIMEZONE:America/Chicago
BEGIN:VTIMEZONE
TZID:America/Chicago
BEGIN:STANDARD
TZNAME:CST
DTSTART:20201101T020000
TZOFFSETFROM:-0500
TZOFFSETTO:-0600
RDATE:20211107T020000
END:STANDARD
BEGIN:DAYLIGHT
TZNAME:CDT
DTSTART:20200308T020000
TZOFFSETFROM:-0600
TZOFFSETTO:-0500
RDATE:20210314T020000
RDATE:20220313T020000
END:DAYLIGHT
END:VTIMEZONE
BEGIN:VEVENT
UID:61ea1f73-8b9b-4286-a910-1f0f6b6aeadd
DTSTAMP:20260425T171451Z
DESCRIPTION:
DTSTART;TZID=America/Chicago:20210211T140000
DTEND;TZID=America/Chicago:20210211T150000
LOCATION:
SUMMARY:Springboard 102: All About Events
END:VEVENT
END:VCALENDAR
