BEGIN:VCALENDAR
VERSION:2.0
PRODID:-//webinar.firespring.org//NONSGML kigkonsult.se iCalcreator 2.30.10
 //
CALSCALE:GREGORIAN
METHOD:PUBLISH
UID:fadea91c-5c92-4aca-bb9d-ae535d96fa50
X-WR-CALDESC:
X-WR-RELCALID:e61a3437d37517e51f396d621cdc3c54
X-WR-TIMEZONE:America/Chicago
BEGIN:VTIMEZONE
TZID:America/Chicago
BEGIN:STANDARD
TZNAME:CST
DTSTART:20201101T020000
TZOFFSETFROM:-0500
TZOFFSETTO:-0600
RDATE:20211107T020000
END:STANDARD
BEGIN:DAYLIGHT
TZNAME:CDT
DTSTART:20200308T020000
TZOFFSETFROM:-0600
TZOFFSETTO:-0500
RDATE:20210314T020000
RDATE:20220313T020000
END:DAYLIGHT
END:VTIMEZONE
BEGIN:VEVENT
UID:47d93a2b-a430-4fcb-9a59-7b963da06c15
DTSTAMP:20260425T171352Z
DESCRIPTION:
DTSTART;TZID=America/Chicago:20210209T100000
DTEND;TZID=America/Chicago:20210209T103000
LOCATION:
SUMMARY:Donation Forms and Fundraisers
END:VEVENT
END:VCALENDAR
