BEGIN:VCALENDAR
VERSION:2.0
PRODID:-//webinar.firespring.org//NONSGML kigkonsult.se iCalcreator 2.30.10
 //
CALSCALE:GREGORIAN
METHOD:PUBLISH
UID:2f600c7c-ef84-48e9-ae21-2bf7d200ad98
X-WR-CALDESC:
X-WR-RELCALID:9d448c05fa70da801bcdce5805b5f81d
X-WR-TIMEZONE:America/Chicago
BEGIN:VTIMEZONE
TZID:America/Chicago
BEGIN:STANDARD
TZNAME:CST
DTSTART:20201101T020000
TZOFFSETFROM:-0500
TZOFFSETTO:-0600
RDATE:20211107T020000
END:STANDARD
BEGIN:DAYLIGHT
TZNAME:CDT
DTSTART:20200308T020000
TZOFFSETFROM:-0600
TZOFFSETTO:-0500
RDATE:20210314T020000
RDATE:20220313T020000
END:DAYLIGHT
END:VTIMEZONE
BEGIN:VEVENT
UID:8ffe41f9-e4df-42dd-8f46-618e314bfdfc
DTSTAMP:20260425T183624Z
DESCRIPTION:
DTSTART;TZID=America/Chicago:20210126T170000
DTEND;TZID=America/Chicago:20210126T200000
LOCATION:
SUMMARY:Volunteer Training
END:VEVENT
END:VCALENDAR
