BEGIN:VCALENDAR
VERSION:2.0
PRODID:-//webinar.firespring.org//NONSGML kigkonsult.se iCalcreator 2.30.10
 //
CALSCALE:GREGORIAN
METHOD:PUBLISH
UID:3d0d198f-c6db-47de-b738-3b309fa1f952
X-WR-CALDESC:
X-WR-RELCALID:8fc1758180209db7c539533b77d26f1a
X-WR-TIMEZONE:America/Chicago
BEGIN:VTIMEZONE
TZID:America/Chicago
BEGIN:STANDARD
TZNAME:CST
DTSTART:20201101T020000
TZOFFSETFROM:-0500
TZOFFSETTO:-0600
RDATE:20211107T020000
END:STANDARD
BEGIN:DAYLIGHT
TZNAME:CDT
DTSTART:20200308T020000
TZOFFSETFROM:-0600
TZOFFSETTO:-0500
RDATE:20210314T020000
RDATE:20220313T020000
END:DAYLIGHT
END:VTIMEZONE
BEGIN:VEVENT
UID:db0c91c6-8922-4939-bb02-d6eb0fbf857b
DTSTAMP:20260425T183737Z
DESCRIPTION:
DTSTART;TZID=America/Chicago:20210106T100000
DTEND;TZID=America/Chicago:20210106T110000
LOCATION:
SUMMARY:Volunteer Event
END:VEVENT
END:VCALENDAR
