BEGIN:VCALENDAR
VERSION:2.0
PRODID:-//webinar.firespring.org//NONSGML kigkonsult.se iCalcreator 2.30.10
 //
CALSCALE:GREGORIAN
METHOD:PUBLISH
UID:a87b28ae-bcf0-47df-bdfc-3dfc6d1fe8a4
X-WR-CALDESC:
X-WR-RELCALID:0a372dc941164c7d16fac6167f54734a
X-WR-TIMEZONE:America/Chicago
BEGIN:VTIMEZONE
TZID:America/Chicago
BEGIN:STANDARD
TZNAME:CST
DTSTART:20201101T020000
TZOFFSETFROM:-0500
TZOFFSETTO:-0600
RDATE:20211107T020000
END:STANDARD
BEGIN:DAYLIGHT
TZNAME:CDT
DTSTART:20200308T020000
TZOFFSETFROM:-0600
TZOFFSETTO:-0500
RDATE:20210314T020000
RDATE:20220313T020000
END:DAYLIGHT
END:VTIMEZONE
BEGIN:VEVENT
UID:8df34206-d796-404e-8ef5-cfd84032ffe3
DTSTAMP:20260425T195519Z
DESCRIPTION:
DTSTART;TZID=America/Chicago:20201222T170000
DTEND;TZID=America/Chicago:20201222T200000
LOCATION:
SUMMARY:Volunteer Training
END:VEVENT
END:VCALENDAR
