BEGIN:VCALENDAR
VERSION:2.0
PRODID:-//webinar.firespring.org//NONSGML kigkonsult.se iCalcreator 2.30.10
 //
CALSCALE:GREGORIAN
METHOD:PUBLISH
UID:1aacf689-9b03-4fae-b156-14c4fa2a309a
X-WR-CALDESC:
X-WR-RELCALID:294ac2ec7e63bf938225fa04c923fe17
X-WR-TIMEZONE:America/Chicago
BEGIN:VTIMEZONE
TZID:America/Chicago
BEGIN:STANDARD
TZNAME:CST
DTSTART:20201101T020000
TZOFFSETFROM:-0500
TZOFFSETTO:-0600
RDATE:20211107T020000
END:STANDARD
BEGIN:DAYLIGHT
TZNAME:CDT
DTSTART:20200308T020000
TZOFFSETFROM:-0600
TZOFFSETTO:-0500
RDATE:20210314T020000
RDATE:20220313T020000
END:DAYLIGHT
END:VTIMEZONE
BEGIN:VEVENT
UID:b6a8799a-3fb9-466a-a480-8b6f74019c43
DTSTAMP:20260425T213320Z
DESCRIPTION:
DTSTART;TZID=America/Chicago:20201124T170000
DTEND;TZID=America/Chicago:20201124T200000
LOCATION:
SUMMARY:Volunteer Training
END:VEVENT
END:VCALENDAR
