BEGIN:VCALENDAR
VERSION:2.0
PRODID:-//webinar.firespring.org//NONSGML kigkonsult.se iCalcreator 2.30.10
 //
CALSCALE:GREGORIAN
METHOD:PUBLISH
UID:f1f3e546-b89d-429d-a651-6735ccfdbeb1
X-WR-CALDESC:Purchase your tickets today and start planning your costume! F
 or just $30/person\, get ready for a fun night of bowling\, dinner\, and a
  costume contest! You even get a shirt! Have a group you’d like to bowl wi
 th? No problem\, sign up for the foursome ticket for a discounted price fo
 r just $100.  Can’t wait to see you boys and ghouls  on the lanes!
X-WR-RELCALID:624ecaa6b8a48a8bbe489712b0c0c628
X-WR-TIMEZONE:America/Chicago
BEGIN:VTIMEZONE
TZID:America/Chicago
BEGIN:STANDARD
TZNAME:CST
DTSTART:20191103T020000
TZOFFSETFROM:-0500
TZOFFSETTO:-0600
RDATE:20201101T020000
RDATE:20211107T020000
END:STANDARD
BEGIN:DAYLIGHT
TZNAME:CDT
DTSTART:20200308T020000
TZOFFSETFROM:-0600
TZOFFSETTO:-0500
RDATE:20210314T020000
RDATE:20220313T020000
END:DAYLIGHT
END:VTIMEZONE
BEGIN:VEVENT
UID:3f335c04-3a30-4596-bfd9-9d9a120cbd0e
DTSTAMP:20260425T225536Z
DESCRIPTION:Purchase your tickets today and start planning your costume! Fo
 r just $30/person\, get ready for a fun night of bowling\, dinner\, and a 
 costume contest! You even get a shirt! Have a group you’d like to bowl wit
 h? No problem\, sign up for the foursome ticket for a discounted price for
  just $100.  Can’t wait to see you boys and ghouls  on the lanes!
DTSTART;TZID=America/Chicago:20201031T180000
DTEND;TZID=America/Chicago:20201031T220000
LOCATION:Hollywood Bowl
SUMMARY:Halloween Bowl
END:VEVENT
END:VCALENDAR
