BEGIN:VCALENDAR
VERSION:2.0
PRODID:-//webinar.firespring.org//NONSGML kigkonsult.se iCalcreator 2.30.10
 //
CALSCALE:GREGORIAN
METHOD:PUBLISH
UID:afdcf7a8-6674-484c-93b6-037869fa26b1
X-WR-CALDESC:
X-WR-RELCALID:39b5515de66fe9bf3b5ea0009ee84558
X-WR-TIMEZONE:America/Chicago
BEGIN:VTIMEZONE
TZID:America/Chicago
BEGIN:STANDARD
TZNAME:CST
DTSTART:20191103T020000
TZOFFSETFROM:-0500
TZOFFSETTO:-0600
RDATE:20201101T020000
RDATE:20211107T020000
END:STANDARD
BEGIN:DAYLIGHT
TZNAME:CDT
DTSTART:20200308T020000
TZOFFSETFROM:-0600
TZOFFSETTO:-0500
RDATE:20210314T020000
RDATE:20220313T020000
END:DAYLIGHT
END:VTIMEZONE
BEGIN:VEVENT
UID:c26f59fd-9ed8-4ca1-a165-de9f6ee7893e
DTSTAMP:20260425T225729Z
DESCRIPTION:
DTSTART;TZID=America/Chicago:20201006T100000
DTEND;TZID=America/Chicago:20201006T110000
LOCATION:
SUMMARY:Volunteer Event
END:VEVENT
END:VCALENDAR
