BEGIN:VCALENDAR
VERSION:2.0
PRODID:-//webinar.firespring.org//NONSGML kigkonsult.se iCalcreator 2.30.10
 //
CALSCALE:GREGORIAN
METHOD:PUBLISH
UID:fe5bf267-fe70-4955-b547-8ffebc74449b
X-WR-CALDESC:
X-WR-RELCALID:21de425370b5dadb1e23e05b45e4226b
X-WR-TIMEZONE:America/Chicago
BEGIN:VTIMEZONE
TZID:America/Chicago
BEGIN:STANDARD
TZNAME:CST
DTSTART:20191103T020000
TZOFFSETFROM:-0500
TZOFFSETTO:-0600
RDATE:20201101T020000
RDATE:20211107T020000
END:STANDARD
BEGIN:DAYLIGHT
TZNAME:CDT
DTSTART:20200308T020000
TZOFFSETFROM:-0600
TZOFFSETTO:-0500
RDATE:20210314T020000
RDATE:20220313T020000
END:DAYLIGHT
END:VTIMEZONE
BEGIN:VEVENT
UID:9b859033-be6b-420c-826b-7ab179f992f8
DTSTAMP:20260425T230021Z
DESCRIPTION:
DTSTART;TZID=America/Chicago:20201001T093000
DTEND;TZID=America/Chicago:20201001T103000
LOCATION:
SUMMARY:Company Wide Retreat
END:VEVENT
END:VCALENDAR
