BEGIN:VCALENDAR
VERSION:2.0
PRODID:-//webinar.firespring.org//NONSGML kigkonsult.se iCalcreator 2.30.10
 //
CALSCALE:GREGORIAN
METHOD:PUBLISH
UID:4ef9d88d-2d88-484c-abd8-7192574a2261
X-WR-CALDESC:
X-WR-RELCALID:6b3760806a670ccbd3ffe51da8d61b02
X-WR-TIMEZONE:America/Chicago
BEGIN:VTIMEZONE
TZID:America/Chicago
BEGIN:STANDARD
TZNAME:CST
DTSTART:20191103T020000
TZOFFSETFROM:-0500
TZOFFSETTO:-0600
RDATE:20201101T020000
RDATE:20211107T020000
END:STANDARD
BEGIN:DAYLIGHT
TZNAME:CDT
DTSTART:20200308T020000
TZOFFSETFROM:-0600
TZOFFSETTO:-0500
RDATE:20210314T020000
RDATE:20220313T020000
END:DAYLIGHT
END:VTIMEZONE
BEGIN:VEVENT
UID:ad43ea78-e044-4a33-9ed5-26a986bd4352
DTSTAMP:20260426T001600Z
DESCRIPTION:
DTSTART;TZID=America/Chicago:20200922T170000
DTEND;TZID=America/Chicago:20200922T200000
LOCATION:
SUMMARY:Volunteer Training
END:VEVENT
END:VCALENDAR
