BEGIN:VCALENDAR
VERSION:2.0
PRODID:-//webinar.firespring.org//NONSGML kigkonsult.se iCalcreator 2.30.10
 //
CALSCALE:GREGORIAN
METHOD:PUBLISH
UID:44777ce5-3258-46ac-9ae1-45c2f1489dda
X-WR-CALDESC:One day of giving to benefit our great organization.
X-WR-RELCALID:8ed7602807de38f9adc88272acccf544
X-WR-TIMEZONE:America/Chicago
BEGIN:VTIMEZONE
TZID:America/Chicago
BEGIN:STANDARD
TZNAME:CST
DTSTART:20191103T020000
TZOFFSETFROM:-0500
TZOFFSETTO:-0600
RDATE:20201101T020000
RDATE:20211107T020000
END:STANDARD
BEGIN:DAYLIGHT
TZNAME:CDT
DTSTART:20200308T020000
TZOFFSETFROM:-0600
TZOFFSETTO:-0500
RDATE:20210314T020000
END:DAYLIGHT
END:VTIMEZONE
BEGIN:VEVENT
UID:f98a5ba7-0edd-4d46-8ec9-40ef28fe6067
DTSTAMP:20260426T001718Z
DESCRIPTION:One day of giving to benefit our great organization.
DTSTART;TZID=America/Chicago:20200906T000000
DTEND;TZID=America/Chicago:20200906T235900
LOCATION:1201 Infinity Court Lincoln Ne 68512
SUMMARY:Day of Giving
END:VEVENT
END:VCALENDAR
