BEGIN:VCALENDAR
VERSION:2.0
PRODID:-//webinar.firespring.org//NONSGML kigkonsult.se iCalcreator 2.30.10
 //
CALSCALE:GREGORIAN
METHOD:PUBLISH
UID:7b0cbd9e-eca4-4695-8efb-85785d955bd6
X-WR-CALDESC:Lincoln’s Biggest women’s networking event\, ABC123 Nonprofit 
 Annual Luncheon attracts nearly 1\,000 corporate women and men for an afte
 rnoon of networkings and celebration of women’s leadership. All proceeds b
 enefit the ABC123 Foundation for Lincoln\, a nonprofit organization dedica
 ted to change that empowers women and girls through the region. By becomin
 g a corporate sponsor\, you become a critical partner in this work.
X-WR-RELCALID:906e1910023438d1fa27ac982b70a134
X-WR-TIMEZONE:America/Chicago
BEGIN:VTIMEZONE
TZID:America/Chicago
BEGIN:STANDARD
TZNAME:CST
DTSTART:20191103T020000
TZOFFSETFROM:-0500
TZOFFSETTO:-0600
RDATE:20201101T020000
RDATE:20211107T020000
END:STANDARD
BEGIN:DAYLIGHT
TZNAME:CDT
DTSTART:20200308T020000
TZOFFSETFROM:-0600
TZOFFSETTO:-0500
RDATE:20210314T020000
END:DAYLIGHT
END:VTIMEZONE
BEGIN:VEVENT
UID:0a808ca3-4164-48c0-b08e-345b9081971b
DTSTAMP:20260426T001718Z
DESCRIPTION:Lincoln’s Biggest women’s networking event\, ABC123 Nonprofit A
 nnual Luncheon attracts nearly 1\,000 corporate women and men for an after
 noon of networkings and celebration of women’s leadership. All proceeds be
 nefit the ABC123 Foundation for Lincoln\, a nonprofit organization dedicat
 ed to change that empowers women and girls through the region. By becoming
  a corporate sponsor\, you become a critical partner in this work.
DTSTART;TZID=America/Chicago:20200903T110000
DTEND;TZID=America/Chicago:20200903T133000
LOCATION:Firespring 1201 Infinity Court Lincoln NE 68512
SUMMARY:Women’s Health Luncheon
END:VEVENT
END:VCALENDAR
