BEGIN:VCALENDAR
VERSION:2.0
PRODID:-//webinar.firespring.org//NONSGML kigkonsult.se iCalcreator 2.30.10
 //
CALSCALE:GREGORIAN
METHOD:PUBLISH
UID:2066bdff-b072-4f8f-b382-b1129d53311f
X-WR-CALDESC:Purchase your tickets today. For just $75 per person you get b
 owling shoes\, lane rental\, t-shirt\, prizes\, and dinner. Have a group y
 ou’d like to bowl with? No problem\, sign up for the foursome ticket for a
  discounted price for just $250.  Can’t wait to see you on the lanes!
X-WR-RELCALID:2edf873a37aa3ea250b424a25e02d9b1
X-WR-TIMEZONE:America/Chicago
BEGIN:VTIMEZONE
TZID:America/Chicago
BEGIN:STANDARD
TZNAME:CST
DTSTART:20191103T020000
TZOFFSETFROM:-0500
TZOFFSETTO:-0600
RDATE:20201101T020000
RDATE:20211107T020000
END:STANDARD
BEGIN:DAYLIGHT
TZNAME:CDT
DTSTART:20200308T020000
TZOFFSETFROM:-0600
TZOFFSETTO:-0500
RDATE:20210314T020000
END:DAYLIGHT
END:VTIMEZONE
BEGIN:VEVENT
UID:26df9ac4-2e1c-4e93-bd3c-5b1d1cd72331
DTSTAMP:20260426T013235Z
DESCRIPTION:Purchase your tickets today. For just $75 per person you get bo
 wling shoes\, lane rental\, t-shirt\, prizes\, and dinner. Have a group yo
 u’d like to bowl with? No problem\, sign up for the foursome ticket for a 
 discounted price for just $250.  Can’t wait to see you on the lanes!
DTSTART;TZID=America/Chicago:20200807T170000
DTEND;TZID=America/Chicago:20200807T210000
LOCATION:Hollywood Bowl
SUMMARY:Bowl for a Cause
END:VEVENT
END:VCALENDAR
