BEGIN:VCALENDAR
VERSION:2.0
PRODID:-//webinar.firespring.org//NONSGML kigkonsult.se iCalcreator 2.30.10
 //
CALSCALE:GREGORIAN
METHOD:PUBLISH
UID:4d8dc125-3b86-4026-aed0-a70f0edbe3db
X-WR-CALDESC:
X-WR-RELCALID:42f643f62d55108a04e17b05f44f213c
X-WR-TIMEZONE:America/Chicago
BEGIN:VTIMEZONE
TZID:America/Chicago
BEGIN:STANDARD
TZNAME:CST
DTSTART:20191103T020000
TZOFFSETFROM:-0500
TZOFFSETTO:-0600
RDATE:20201101T020000
RDATE:20211107T020000
END:STANDARD
BEGIN:DAYLIGHT
TZNAME:CDT
DTSTART:20200308T020000
TZOFFSETFROM:-0600
TZOFFSETTO:-0500
RDATE:20210314T020000
END:DAYLIGHT
END:VTIMEZONE
BEGIN:VEVENT
UID:b2901e81-a5f0-42c9-a40e-2405ad20baaf
DTSTAMP:20260426T031245Z
DESCRIPTION:
DTSTART;TZID=America/Chicago:20200728T173000
DTEND;TZID=America/Chicago:20200728T190000
LOCATION:
SUMMARY:Volunteer Meeting
END:VEVENT
END:VCALENDAR
