BEGIN:VCALENDAR
VERSION:2.0
PRODID:-//webinar.firespring.org//NONSGML kigkonsult.se iCalcreator 2.30.10
 //
CALSCALE:GREGORIAN
METHOD:PUBLISH
UID:60281593-e672-4411-83df-8c988de3864e
X-WR-CALDESC:
X-WR-RELCALID:be285eebdbc41a86430db45c2e00e48e
X-WR-TIMEZONE:America/Chicago
BEGIN:VTIMEZONE
TZID:America/Chicago
BEGIN:STANDARD
TZNAME:CST
DTSTART:20191103T020000
TZOFFSETFROM:-0500
TZOFFSETTO:-0600
RDATE:20201101T020000
RDATE:20211107T020000
END:STANDARD
BEGIN:DAYLIGHT
TZNAME:CDT
DTSTART:20200308T020000
TZOFFSETFROM:-0600
TZOFFSETTO:-0500
RDATE:20210314T020000
END:DAYLIGHT
END:VTIMEZONE
BEGIN:VEVENT
UID:d20f9546-776d-4a98-8ba5-c80cb9513e12
DTSTAMP:20260426T030914Z
DESCRIPTION:
DTSTART;TZID=America/Chicago:20200728T170000
DTEND;TZID=America/Chicago:20200728T200000
LOCATION:
SUMMARY:Volunteer Training
END:VEVENT
END:VCALENDAR
