BEGIN:VCALENDAR
VERSION:2.0
PRODID:-//webinar.firespring.org//NONSGML kigkonsult.se iCalcreator 2.30.10
 //
CALSCALE:GREGORIAN
METHOD:PUBLISH
UID:4aa888e9-deb0-4e3d-8257-0b366769fb10
X-WR-CALDESC:
X-WR-RELCALID:160f34dcdb2994eaa547d6bddf2abd7a
X-WR-TIMEZONE:America/Chicago
BEGIN:VTIMEZONE
TZID:America/Chicago
BEGIN:STANDARD
TZNAME:CST
DTSTART:20191103T020000
TZOFFSETFROM:-0500
TZOFFSETTO:-0600
RDATE:20201101T020000
RDATE:20211107T020000
END:STANDARD
BEGIN:DAYLIGHT
TZNAME:CDT
DTSTART:20200308T020000
TZOFFSETFROM:-0600
TZOFFSETTO:-0500
RDATE:20210314T020000
END:DAYLIGHT
END:VTIMEZONE
BEGIN:VEVENT
UID:c365afa7-6b81-4680-9cd9-3525d2150a2b
DTSTAMP:20260426T031008Z
DESCRIPTION:
DTSTART;TZID=America/Chicago:20200725T100000
DTEND;TZID=America/Chicago:20200725T130000
LOCATION:
SUMMARY:Volunteer Event
END:VEVENT
END:VCALENDAR
