BEGIN:VCALENDAR
VERSION:2.0
PRODID:-//webinar.firespring.org//NONSGML kigkonsult.se iCalcreator 2.30.10
 //
CALSCALE:GREGORIAN
METHOD:PUBLISH
UID:d57e85a3-5815-4902-bb39-f698f8efbb91
X-WR-CALDESC:
X-WR-RELCALID:2c9603e5ff081f242ccb4c0a1860b18f
X-WR-TIMEZONE:America/Chicago
BEGIN:VTIMEZONE
TZID:America/Chicago
BEGIN:STANDARD
TZNAME:CST
DTSTART:20191103T020000
TZOFFSETFROM:-0500
TZOFFSETTO:-0600
RDATE:20201101T020000
RDATE:20211107T020000
END:STANDARD
BEGIN:DAYLIGHT
TZNAME:CDT
DTSTART:20200308T020000
TZOFFSETFROM:-0600
TZOFFSETTO:-0500
RDATE:20210314T020000
END:DAYLIGHT
END:VTIMEZONE
BEGIN:VEVENT
UID:ba1aaaed-debc-4132-86aa-c76eb0135abc
DTSTAMP:20260426T031144Z
DESCRIPTION:
DTSTART;TZID=America/Chicago:20200721T173000
DTEND;TZID=America/Chicago:20200721T190000
LOCATION:
SUMMARY:Volunteer Meeting
END:VEVENT
END:VCALENDAR
