BEGIN:VCALENDAR
VERSION:2.0
PRODID:-//webinar.firespring.org//NONSGML kigkonsult.se iCalcreator 2.30.10
 //
CALSCALE:GREGORIAN
METHOD:PUBLISH
UID:1b8aa7c3-cffd-41a7-aa00-784d7057cf37
X-WR-CALDESC:
X-WR-RELCALID:7799584c05a82ab1ecbb73550d7b42e1
X-WR-TIMEZONE:America/Chicago
BEGIN:VTIMEZONE
TZID:America/Chicago
BEGIN:STANDARD
TZNAME:CST
DTSTART:20191103T020000
TZOFFSETFROM:-0500
TZOFFSETTO:-0600
RDATE:20201101T020000
RDATE:20211107T020000
END:STANDARD
BEGIN:DAYLIGHT
TZNAME:CDT
DTSTART:20200308T020000
TZOFFSETFROM:-0600
TZOFFSETTO:-0500
RDATE:20210314T020000
END:DAYLIGHT
END:VTIMEZONE
BEGIN:VEVENT
UID:1de26196-47e5-4107-a02b-a3a853c45f89
DTSTAMP:20260426T031040Z
DESCRIPTION:
DTSTART;TZID=America/Chicago:20200718T100000
DTEND;TZID=America/Chicago:20200718T130000
LOCATION:
SUMMARY:Volunteer Event
END:VEVENT
END:VCALENDAR
