BEGIN:VCALENDAR
VERSION:2.0
PRODID:-//webinar.firespring.org//NONSGML kigkonsult.se iCalcreator 2.30.10
 //
CALSCALE:GREGORIAN
METHOD:PUBLISH
UID:60ca2970-318e-45a9-bb4b-557e6d076855
X-WR-CALDESC:
X-WR-RELCALID:1e88bf90ddf86bd0af8766602705d815
X-WR-TIMEZONE:America/Chicago
BEGIN:VTIMEZONE
TZID:America/Chicago
BEGIN:STANDARD
TZNAME:CST
DTSTART:20191103T020000
TZOFFSETFROM:-0500
TZOFFSETTO:-0600
RDATE:20201101T020000
RDATE:20211107T020000
END:STANDARD
BEGIN:DAYLIGHT
TZNAME:CDT
DTSTART:20200308T020000
TZOFFSETFROM:-0600
TZOFFSETTO:-0500
RDATE:20210314T020000
END:DAYLIGHT
END:VTIMEZONE
BEGIN:VEVENT
UID:c2bc2b23-54c8-4443-afa2-5c256363c88f
DTSTAMP:20260426T031221Z
DESCRIPTION:
DTSTART;TZID=America/Chicago:20200714T173000
DTEND;TZID=America/Chicago:20200714T190000
LOCATION:
SUMMARY:Volunteer Meeting
END:VEVENT
END:VCALENDAR
