BEGIN:VCALENDAR
VERSION:2.0
PRODID:-//webinar.firespring.org//NONSGML kigkonsult.se iCalcreator 2.30.10
 //
CALSCALE:GREGORIAN
METHOD:PUBLISH
UID:109fc633-cbf6-4489-ad03-3200199b52e9
X-WR-CALDESC:
X-WR-RELCALID:a5afa5f40bfdd3701f9fa3050a74ec3d
X-WR-TIMEZONE:America/Chicago
BEGIN:VTIMEZONE
TZID:America/Chicago
BEGIN:STANDARD
TZNAME:CST
DTSTART:20191103T020000
TZOFFSETFROM:-0500
TZOFFSETTO:-0600
RDATE:20201101T020000
RDATE:20211107T020000
END:STANDARD
BEGIN:DAYLIGHT
TZNAME:CDT
DTSTART:20200308T020000
TZOFFSETFROM:-0600
TZOFFSETTO:-0500
RDATE:20210314T020000
END:DAYLIGHT
END:VTIMEZONE
BEGIN:VEVENT
UID:4ecb69f0-a4e8-4bd7-b23d-8ef2680643d2
DTSTAMP:20260426T031009Z
DESCRIPTION:
DTSTART;TZID=America/Chicago:20200711T100000
DTEND;TZID=America/Chicago:20200711T130000
LOCATION:
SUMMARY:Volunteer Event
END:VEVENT
END:VCALENDAR
