BEGIN:VCALENDAR
VERSION:2.0
PRODID:-//webinar.firespring.org//NONSGML kigkonsult.se iCalcreator 2.30.10
 //
CALSCALE:GREGORIAN
METHOD:PUBLISH
UID:5ebb247f-226a-4b4e-82a8-95297026f3b4
X-WR-CALDESC:Brunch will be delivered to all attendees before the meeting\,
  grab a coffee or OJ and join us as we chat about what our upcoming events
  will look like with the new restrictions.
X-WR-RELCALID:60fa9184d6734056ea302b7c9ce84f80
X-WR-TIMEZONE:America/Chicago
BEGIN:VTIMEZONE
TZID:America/Chicago
BEGIN:STANDARD
TZNAME:CST
DTSTART:20191103T020000
TZOFFSETFROM:-0500
TZOFFSETTO:-0600
RDATE:20201101T020000
RDATE:20211107T020000
END:STANDARD
BEGIN:DAYLIGHT
TZNAME:CDT
DTSTART:20200308T020000
TZOFFSETFROM:-0600
TZOFFSETTO:-0500
RDATE:20210314T020000
END:DAYLIGHT
END:VTIMEZONE
BEGIN:VEVENT
UID:87dc74cf-d16c-4cb2-9429-90fa5ac3a81c
DTSTAMP:20260426T030840Z
DESCRIPTION:Brunch will be delivered to all attendees before the meeting\, 
 grab a coffee or OJ and join us as we chat about what our upcoming events 
 will look like with the new restrictions.
DTSTART;TZID=America/Chicago:20200710T093000
DTEND;TZID=America/Chicago:20200710T103000
LOCATION:Your computer!
SUMMARY:Volunteer Zoom Brunch
END:VEVENT
END:VCALENDAR
