BEGIN:VCALENDAR
VERSION:2.0
PRODID:-//webinar.firespring.org//NONSGML kigkonsult.se iCalcreator 2.30.10
 //
CALSCALE:GREGORIAN
METHOD:PUBLISH
UID:086564c0-c7fb-4dc9-bf63-028212ebe2de
X-WR-CALDESC:
X-WR-RELCALID:1db6f78313e174cb99443ce771f699cf
X-WR-TIMEZONE:America/Chicago
BEGIN:VTIMEZONE
TZID:America/Chicago
BEGIN:STANDARD
TZNAME:CST
DTSTART:20191103T020000
TZOFFSETFROM:-0500
TZOFFSETTO:-0600
RDATE:20201101T020000
RDATE:20211107T020000
END:STANDARD
BEGIN:DAYLIGHT
TZNAME:CDT
DTSTART:20200308T020000
TZOFFSETFROM:-0600
TZOFFSETTO:-0500
RDATE:20210314T020000
END:DAYLIGHT
END:VTIMEZONE
BEGIN:VEVENT
UID:2bf0d2de-d132-41b0-9b5b-a4c87faa0e02
DTSTAMP:20260426T030912Z
DESCRIPTION:
DTSTART;TZID=America/Chicago:20200704T100000
DTEND;TZID=America/Chicago:20200704T130000
LOCATION:
SUMMARY:Volunteer Event
END:VEVENT
END:VCALENDAR
