BEGIN:VCALENDAR
VERSION:2.0
PRODID:-//webinar.firespring.org//NONSGML kigkonsult.se iCalcreator 2.30.10
 //
CALSCALE:GREGORIAN
METHOD:PUBLISH
UID:be3f3cfe-c105-49dd-8464-09765ccca093
X-WR-CALDESC:
X-WR-RELCALID:53ed820c9f36e4a7cf189d0bfd58ecdf
X-WR-TIMEZONE:America/Chicago
BEGIN:VTIMEZONE
TZID:America/Chicago
BEGIN:STANDARD
TZNAME:CST
DTSTART:20191103T020000
TZOFFSETFROM:-0500
TZOFFSETTO:-0600
RDATE:20201101T020000
RDATE:20211107T020000
END:STANDARD
BEGIN:DAYLIGHT
TZNAME:CDT
DTSTART:20200308T020000
TZOFFSETFROM:-0600
TZOFFSETTO:-0500
RDATE:20210314T020000
END:DAYLIGHT
END:VTIMEZONE
BEGIN:VEVENT
UID:6fdba20b-cace-4fac-a608-23d9ca67c614
DTSTAMP:20260426T044012Z
DESCRIPTION:
DTSTART;TZID=America/Chicago:20200623T170000
DTEND;TZID=America/Chicago:20200623T200000
LOCATION:
SUMMARY:Volunteer Training
END:VEVENT
END:VCALENDAR
